BEGIN:VCALENDAR
VERSION:2.0
PRODID:-//Foosweden - ECPv6.15.14//NONSGML v1.0//EN
CALSCALE:GREGORIAN
METHOD:PUBLISH
X-WR-CALNAME:Foosweden
X-ORIGINAL-URL:https://www.foosweden.se
X-WR-CALDESC:Events for Foosweden
REFRESH-INTERVAL;VALUE=DURATION:PT1H
X-Robots-Tag:noindex
X-PUBLISHED-TTL:PT1H
BEGIN:VTIMEZONE
TZID:Europe/Stockholm
BEGIN:DAYLIGHT
TZOFFSETFROM:+0100
TZOFFSETTO:+0200
TZNAME:CEST
DTSTART:20200329T010000
END:DAYLIGHT
BEGIN:STANDARD
TZOFFSETFROM:+0200
TZOFFSETTO:+0100
TZNAME:CET
DTSTART:20201025T010000
END:STANDARD
BEGIN:DAYLIGHT
TZOFFSETFROM:+0100
TZOFFSETTO:+0200
TZNAME:CEST
DTSTART:20210328T010000
END:DAYLIGHT
BEGIN:STANDARD
TZOFFSETFROM:+0200
TZOFFSETTO:+0100
TZNAME:CET
DTSTART:20211031T010000
END:STANDARD
BEGIN:DAYLIGHT
TZOFFSETFROM:+0100
TZOFFSETTO:+0200
TZNAME:CEST
DTSTART:20220327T010000
END:DAYLIGHT
BEGIN:STANDARD
TZOFFSETFROM:+0200
TZOFFSETTO:+0100
TZNAME:CET
DTSTART:20221030T010000
END:STANDARD
END:VTIMEZONE
BEGIN:VEVENT
DTSTART;TZID=Europe/Stockholm:20211119T150000
DTEND;TZID=Europe/Stockholm:20211119T180000
DTSTAMP:20260420T051615
CREATED:20211111T193314Z
LAST-MODIFIED:20211112T101359Z
UID:10000083-1637334000-1637344800@www.foosweden.se
SUMMARY:Book After Work event at Elite Plaza Hotel\, Malmö
DESCRIPTION:A new book presentation event is coming up in Malmö! \nAfter the success of the Book release tour for the release of “Teal.Tillit.Transparens”\, the authors Alicia and Rolf Medina are gonna signing more copies in Malmö in an After Work event hosted by the Elite Plaza Hotel. \nThe event is an open house between h.15 and 18. \nWarm welcome! \n\n\n\n\n\n\n\n\n\n 
URL:https://www.foosweden.se/event/book-after-work-event/
LOCATION:Elite Plaza Hotel\, Gustav Adolfs torg 49\, Malmö\, Sweden
CATEGORIES:Book release,Event
ATTACH;FMTTYPE=image/png:https://www.foosweden.se/wp-content/uploads/2021/11/Book-Release.png
END:VEVENT
END:VCALENDAR