BEGIN:VCALENDAR
VERSION:2.0
PRODID:-//Foosweden - ECPv6.15.14//NONSGML v1.0//EN
CALSCALE:GREGORIAN
METHOD:PUBLISH
X-WR-CALNAME:Foosweden
X-ORIGINAL-URL:https://www.foosweden.se
X-WR-CALDESC:Events for Foosweden
REFRESH-INTERVAL;VALUE=DURATION:PT1H
X-Robots-Tag:noindex
X-PUBLISHED-TTL:PT1H
BEGIN:VTIMEZONE
TZID:Europe/Stockholm
BEGIN:DAYLIGHT
TZOFFSETFROM:+0100
TZOFFSETTO:+0200
TZNAME:CEST
DTSTART:20210328T010000
END:DAYLIGHT
BEGIN:STANDARD
TZOFFSETFROM:+0200
TZOFFSETTO:+0100
TZNAME:CET
DTSTART:20211031T010000
END:STANDARD
BEGIN:DAYLIGHT
TZOFFSETFROM:+0100
TZOFFSETTO:+0200
TZNAME:CEST
DTSTART:20220327T010000
END:DAYLIGHT
BEGIN:STANDARD
TZOFFSETFROM:+0200
TZOFFSETTO:+0100
TZNAME:CET
DTSTART:20221030T010000
END:STANDARD
BEGIN:DAYLIGHT
TZOFFSETFROM:+0100
TZOFFSETTO:+0200
TZNAME:CEST
DTSTART:20230326T010000
END:DAYLIGHT
BEGIN:STANDARD
TZOFFSETFROM:+0200
TZOFFSETTO:+0100
TZNAME:CET
DTSTART:20231029T010000
END:STANDARD
END:VTIMEZONE
BEGIN:VEVENT
DTSTART;VALUE=DATE:20220601
DTEND;VALUE=DATE:20220602
DTSTAMP:20260420T031940
CREATED:20220518T150200Z
LAST-MODIFIED:20230403T112712Z
UID:10000092-1654041600-1654127999@www.foosweden.se
SUMMARY:Alicia and Rolf Medina to guest at Sonder Podden
DESCRIPTION:Alicia and Rolf Medina will be guests at the Sonder Podden in September 2022. \nThey will talk about their latest book “Teal. Tillit.Transparens“\, specifically on what concerns organizations and their capacity to move towards the new paradigm where self-organizing and distribution of power are the new normal. \n<<listen to the episode in Swedish by following this link. Lyssna på avsnittet genom att följa denna länk>> \nYou don’t want to miss such an important topic! \nThe talk is going to be in Swedish.
URL:https://www.foosweden.se/event/alicia-and-rolf-medina-to-guest-at-sonder-podden/
LOCATION:Sonder Podden\, Sweden
CATEGORIES:Event,Podcast,Swedish
ATTACH;FMTTYPE=image/jpeg:https://www.foosweden.se/wp-content/uploads/2022/05/Sonder-podden_Alicia-and-rolf.jpg
END:VEVENT
END:VCALENDAR