BEGIN:VCALENDAR
VERSION:2.0
PRODID:-//Foosweden - ECPv6.15.14//NONSGML v1.0//EN
CALSCALE:GREGORIAN
METHOD:PUBLISH
X-ORIGINAL-URL:https://www.foosweden.se
X-WR-CALDESC:Events for Foosweden
REFRESH-INTERVAL;VALUE=DURATION:PT1H
X-Robots-Tag:noindex
X-PUBLISHED-TTL:PT1H
BEGIN:VTIMEZONE
TZID:Europe/Stockholm
BEGIN:DAYLIGHT
TZOFFSETFROM:+0100
TZOFFSETTO:+0200
TZNAME:CEST
DTSTART:20200329T010000
END:DAYLIGHT
BEGIN:STANDARD
TZOFFSETFROM:+0200
TZOFFSETTO:+0100
TZNAME:CET
DTSTART:20201025T010000
END:STANDARD
BEGIN:DAYLIGHT
TZOFFSETFROM:+0100
TZOFFSETTO:+0200
TZNAME:CEST
DTSTART:20210328T010000
END:DAYLIGHT
BEGIN:STANDARD
TZOFFSETFROM:+0200
TZOFFSETTO:+0100
TZNAME:CET
DTSTART:20211031T010000
END:STANDARD
BEGIN:DAYLIGHT
TZOFFSETFROM:+0100
TZOFFSETTO:+0200
TZNAME:CEST
DTSTART:20220327T010000
END:DAYLIGHT
BEGIN:STANDARD
TZOFFSETFROM:+0200
TZOFFSETTO:+0100
TZNAME:CET
DTSTART:20221030T010000
END:STANDARD
BEGIN:DAYLIGHT
TZOFFSETFROM:+0100
TZOFFSETTO:+0200
TZNAME:CEST
DTSTART:20230326T010000
END:DAYLIGHT
BEGIN:STANDARD
TZOFFSETFROM:+0200
TZOFFSETTO:+0100
TZNAME:CET
DTSTART:20231029T010000
END:STANDARD
BEGIN:DAYLIGHT
TZOFFSETFROM:+0100
TZOFFSETTO:+0200
TZNAME:CEST
DTSTART:20240331T010000
END:DAYLIGHT
BEGIN:STANDARD
TZOFFSETFROM:+0200
TZOFFSETTO:+0100
TZNAME:CET
DTSTART:20241027T010000
END:STANDARD
END:VTIMEZONE
BEGIN:VEVENT
DTSTART;TZID=Europe/Stockholm:20230515T093000
DTEND;TZID=Europe/Stockholm:20230515T103000
DTSTAMP:20260420T115322
CREATED:20230508T141713Z
LAST-MODIFIED:20230523T211711Z
UID:10000098-1684143000-1684146600@www.foosweden.se
SUMMARY:New podcast episode!
DESCRIPTION:In this episode\, Alicia Medina is a guest on the program Av egen kraft. She talks about Teal and about the new English edition of the book “Teal. Trust. Transparency”. Join us to learn more about how some organizations are changing towards a more progressive and human-centered way of organizing. \n\n                \n                    \n                \n                \n                    \n                        \n                    \n                \n                 \n                \n            00:00
URL:https://www.foosweden.se/event/new-podcast-episode/
LOCATION:Online
CATEGORIES:Podcast,Swedish,Web radio programme
ATTACH;FMTTYPE=image/png:https://www.foosweden.se/wp-content/uploads/2023/05/tiden-at-nu-12-3.png
END:VEVENT
BEGIN:VEVENT
DTSTART;TZID=Europe/Stockholm:20220407T093000
DTEND;TZID=Europe/Stockholm:20220407T110000
DTSTAMP:20260420T115322
CREATED:20220406T085955Z
LAST-MODIFIED:20230403T150321Z
UID:10000090-1649323800-1649329200@www.foosweden.se
SUMMARY:“Tiden är NU!” #14 the "Regenerative Approach"
DESCRIPTION:The upcoming episode of “Tiden är NU!” in April will focus on the Regenerative Approach to manage organization and projects\, which goes beyond sustainability and circularity. In a “circular approach” the aim is to have an outcome of zero\, while in the “regenerative approach” the effort is towards having a positive-sum impact. As usual\, the episode will be led by Alicia and Rolf Medina interviewing Maria Wahlberg and Tobias Tagesson from Transponder. <>  <> You don’t wanna miss this interesting topic! Listen to it live on Av Egen Kraft radio or find it afterwards\, to be played as a podcast. This is the last episode of Tiden är NU! in this format. In the spirit of renewal we will be back with other ways and formats\, because the Time is NOW!\, Tiden är NU \n 
URL:https://www.foosweden.se/event/tiden-ar-nu-14-regenerative-approach/
LOCATION:On web radio AV EGEN KRAFT
CATEGORIES:Podcast,Swedish,Web radio programme
ATTACH;FMTTYPE=image/jpeg:https://www.foosweden.se/wp-content/uploads/2022/04/tiden-ar-nu-14.jpg
END:VEVENT
BEGIN:VEVENT
DTSTART;TZID=Europe/Stockholm:20220310T093000
DTEND;TZID=Europe/Stockholm:20220310T110000
DTSTAMP:20260420T115322
CREATED:20211231T113450Z
LAST-MODIFIED:20230403T151439Z
UID:10000086-1646904600-1646910000@www.foosweden.se
SUMMARY:“Tiden är NU!” #13 Social Responsibility and Sustainability
DESCRIPTION:The theme of March episode (3/10) of “Tiden är NU!” is Social Responsibility and Sustainability. It will be discussed by Rolf and Alicia Medina together with Anna Elgh\, CEO of Svenska Retursystem. \nTemat för marsavsnittet (3/10) av “Tiden är NU!” är Social ansvar och hållbarhet. Det kommer att diskuteras av Rolf och Alicia Medina tillsammans med Anna Elgh\, VD på Svenska Retursystem. \n<<Click here to listen to the episode (In Swedish)!>>  <<Klicka här för att lyssna på avsnittet!>>
URL:https://www.foosweden.se/event/tiden-ar-nu-13-social-responsibility-and-sustainability/
LOCATION:On web radio AV EGEN KRAFT
CATEGORIES:Podcast,Swedish,Web radio programme
ATTACH;FMTTYPE=image/jpeg:https://www.foosweden.se/wp-content/uploads/2021/12/tiden-ar-nu-13.jpg
END:VEVENT
BEGIN:VEVENT
DTSTART;TZID=Europe/Stockholm:20220210T093000
DTEND;TZID=Europe/Stockholm:20220210T110000
DTSTAMP:20260420T115322
CREATED:20211231T113825Z
LAST-MODIFIED:20230405T142254Z
UID:10000087-1644485400-1644490800@www.foosweden.se
SUMMARY:“Tiden är NU!” #12 Company Culture
DESCRIPTION:The theme of February episode (2/10) of “Tiden är NU!” is Company Culture. It will be discussed by Rolf and Alicia Medina together with Sebastian Thuné\, CEO at “House of Test Consulting”. \nTemat för februariavsnittet (2/10) av “Tiden är NU!” är organisationskultur. Det kommer att diskuteras av Rolf och Alicia Medina tillsammans med Sebastian Thuné\, VD på “House of Test Consulting”. \n<<Click here to listen to the episode (In Swedish)!>>  <<Klicka här för att lyssna på avsnittet!>> \n[audio src="https://www.avegenkraft.com/wp-content/uploads/2022/04/Tiden-a%CC%88r-NU-12-10-feb-2022-Sebastian-sin-musica.mp3" /]
URL:https://www.foosweden.se/event/tiden-ar-nu-12-culture/
LOCATION:On web radio AV EGEN KRAFT
CATEGORIES:Podcast,Swedish,Web radio programme
ATTACH;FMTTYPE=image/png:https://www.foosweden.se/wp-content/uploads/2021/12/tiden-at-nu-12.png
END:VEVENT
BEGIN:VEVENT
DTSTART;TZID=Europe/Stockholm:20220113T093000
DTEND;TZID=Europe/Stockholm:20220113T110000
DTSTAMP:20260420T115322
CREATED:20210616T103202Z
LAST-MODIFIED:20230404T203241Z
UID:10000076-1642066200-1642071600@www.foosweden.se
SUMMARY:“Tiden är NU!” #11 Salary model and profit sharing
DESCRIPTION:The themes of January episode (January 13th) of “Tiden är NU!” are the salary model and profit sharing. It will be discussed by Rolf and Alicia Medina together with Jesper Nyström from ProAgile. \nTeman för januariavsnittet (13 januari) av “Tiden är NU!” är Lönemodellen och vinstdelning. Det kommer att diskuteras av Rolf och Alicia Medina tillsammans med Jesper Nyström från ProAgile. \n<<Click here to listen to the episode (In Swedish)!>>  <<Klicka här för att lyssna på avsnittet!>> \n\n\n\n\n\n\n\n\n\n 
URL:https://www.foosweden.se/event/277971-salary-model/
LOCATION:On web radio AV EGEN KRAFT
CATEGORIES:Swedish,Web radio programme
ATTACH;FMTTYPE=image/png:https://www.foosweden.se/wp-content/uploads/2021/06/tiden-ar-nu-13.png
END:VEVENT
BEGIN:VEVENT
DTSTART;TZID=Europe/Stockholm:20211209T093000
DTEND;TZID=Europe/Stockholm:20211209T110000
DTSTAMP:20260420T115322
CREATED:20211207T093807Z
LAST-MODIFIED:20230404T203419Z
UID:10000085-1639042200-1639047600@www.foosweden.se
SUMMARY:Xmas Chat on "Tiden är NU!" #10 with Alicia and Rolf Medina
DESCRIPTION:Now are approaching the end of 2021. \nIn this episode of Tiden är NU!\, Alicia and Rolf will discuss the year that has pasted. We have had eleven guests and now it’s time to reflect and to see how the thoughts of all our guests connect to each other in a systemic way. \nWe will also look forward to 2022 and maybe speculate what will happen. And maybe\, for sure\, present some new guests that can change our minds! \n<<<Lyssna på avsnittet här>
URL:https://www.foosweden.se/event/xmas-chat-on-tiden-ar-nu-with-alicia-and-rolf-medina/
LOCATION:On web radio AV EGEN KRAFT
CATEGORIES:Podcast,Swedish,Web radio programme
ATTACH;FMTTYPE=image/png:https://www.foosweden.se/wp-content/uploads/2021/12/8.png
END:VEVENT
BEGIN:VEVENT
DTSTART;TZID=Europe/Stockholm:20211111T093000
DTEND;TZID=Europe/Stockholm:20211111T110000
DTSTAMP:20260420T115322
CREATED:20210616T094630Z
LAST-MODIFIED:20230404T203945Z
UID:10000075-1636623000-1636628400@www.foosweden.se
SUMMARY:"Tiden är NU!" #9 Finance in organisations
DESCRIPTION:The theme of November episode (11/11) of “Tiden är NU!” is finance in organisations. It will be discussed by Rolf and Alicia Medina together with Ulf Svensson from the company Björn Lunden. \nLyssna på avsnittet genom att följa denna länk \nTemat för novemberavsnittet (11/11) av “Tiden är NU!” är finanser i organisationer. Det kommer att diskuteras av Rolf och Alicia Medina tillsammans med Ulf Svensson från företaget Björn Lunden.
URL:https://www.foosweden.se/event/tiden-ar-nu-9-finance-in-organisations/
LOCATION:On web radio AV EGEN KRAFT
CATEGORIES:Swedish,Web radio programme
ATTACH;FMTTYPE=image/png:https://www.foosweden.se/wp-content/uploads/2021/06/9.png
END:VEVENT
BEGIN:VEVENT
DTSTART;TZID=Europe/Stockholm:20211014T093000
DTEND;TZID=Europe/Stockholm:20211014T110000
DTSTAMP:20260420T115322
CREATED:20210616T093704Z
LAST-MODIFIED:20230405T084848Z
UID:10000074-1634203800-1634209200@www.foosweden.se
SUMMARY:"Tiden är NU!" #8 Communication
DESCRIPTION:The theme of October episode (14/10) of “Tiden är NU!” is Communication\, and will be discussed by Rolf and Alicia Medina together with Karin Tenelius from Tuff ledarskapsträning. \nThis includes transparency\, various forms of communication\, the view on and meaning of feedback and the best-before-date for information. What is needed to create transparency and good communication is clarity\, accessibility and openness. An organisation should strive for as much transparency as possible. Feedback should be directed forward\, with the purpose of improvement instead of criticism. More about the DP-model here\n_______ Temat för oktoberavsnittet (14/10) av “Tiden är NU!” är kommunikation. Det kommer att diskuteras av Rolf och Alicia Medina tillsammans med Karin Tenelius från Tuff ledarskapsträning. \n<<<Man kan lyssna på programmet genom att klicka här>>>
URL:https://www.foosweden.se/event/277965-tiden-ar-nu-comunication/
LOCATION:On web radio AV EGEN KRAFT
CATEGORIES:Swedish,Web radio programme
ATTACH;FMTTYPE=image/jpeg:https://www.foosweden.se/wp-content/uploads/2021/06/Tiden-ar-NU-8.jpg
END:VEVENT
BEGIN:VEVENT
DTSTART;TZID=Europe/Stockholm:20210909T093000
DTEND;TZID=Europe/Stockholm:20210909T110000
DTSTAMP:20260420T115322
CREATED:20210616T092735Z
LAST-MODIFIED:20230405T085211Z
UID:10000073-1631179800-1631185200@www.foosweden.se
SUMMARY:"Tiden är NU!" #7 Decision Making
DESCRIPTION:The theme of September episode (9/9) of “Tiden är NU!” is Decision Making and The Human Element and will be discussed by Rolf and Alicia Medina together with Carl Maximilian Tropé from Tropé Consulting. \n<<Lyssna på avsnittet här>> \n_________ Temat för septemberavsnittet (9/9) av “Tiden är NU!” är beslutsfattande och det mänskliga elementet. Det kommer att diskuteras av Rolf och Alicia Medina tillsammans med Carl Maximilian Tropé från Tropé Consulting.
URL:https://www.foosweden.se/event/tiden-ar-nu-7-decision-making/
LOCATION:On web radio AV EGEN KRAFT
CATEGORIES:Swedish,Web radio programme
ATTACH;FMTTYPE=image/jpeg:https://www.foosweden.se/wp-content/uploads/2021/06/Tiden-ar-NU-7-Decision-Making.jpg
END:VEVENT
BEGIN:VEVENT
DTSTART;TZID=Europe/Stockholm:20210812T093000
DTEND;TZID=Europe/Stockholm:20210812T110000
DTSTAMP:20260420T115322
CREATED:20210616T091149Z
LAST-MODIFIED:20230405T113931Z
UID:10000072-1628760600-1628766000@www.foosweden.se
SUMMARY:"Tiden är NU!" #6 Leadership
DESCRIPTION:In the August episode (12/8) of “Tiden är NU!”\, Rolf and Alicia Medina will discuss leadership together with two exceptional guests:\nJohan Ivari\, officer\, agile coach and teacher at the Swedish National Defense College\, Department of Leadership and Management.\nAND\nTorbjörn Engelkes\, Lieutenant Colonel\, Teacher at the Leadership Department (Swedish National Defense College) and Doctoral candidate at the Department of Psychology (Stockholm University) \nThe focus of the talk will be the leadership aspect in organizations which is one of the 12 areas of the DP-model. DP comes from Distributed Power and the model is a guide for self-organizing\, Teal\, Sociocracy and in general for the democratization of the workplace. More about the DP-model here \n<<Lyssna på avsnittet här >> \n_______________ \nPå avsnittet av “Tiden är NU!” i Augusti (12/8) kommer Alicia och Rolf Medina prata om Ledarskap tillsammans med två fantastiska gäster:\nJohan Ivari\, officer\, agil coach och lärare vid försvarshögskolan\, institutionen för ledarskap och ledning.\nOCH\nTorbjörn Engelkes\, Överstelöjtnant\, Lärare vid Ledarskapsavdelningen (Försvarshögskolan) samt Doktorand vid Psykologiska institutionen (Stockholms Universitet)
URL:https://www.foosweden.se/event/tiden-ar-nu-6-leadership/
LOCATION:On web radio AV EGEN KRAFT
CATEGORIES:Swedish,Web radio programme
ATTACH;FMTTYPE=image/jpeg:https://www.foosweden.se/wp-content/uploads/2021/06/Tiden-ar-NU-6-Leadership.jpg
END:VEVENT
BEGIN:VEVENT
DTSTART;TZID=Europe/Stockholm:20210708T093000
DTEND;TZID=Europe/Stockholm:20210708T110000
DTSTAMP:20260420T115322
CREATED:20210611T102252Z
LAST-MODIFIED:20220420T130055Z
UID:10000071-1625736600-1625742000@www.foosweden.se
SUMMARY:"Tiden är NU!" #5 People in organizations
DESCRIPTION:On July 8th\, Mohammed Bashir Abdi will be the guest of the webradio program “Tiden är NU!” hosted by Rolf and Alicia Medina.Mohammed has a long career within the Swedish job market at Arbetsförmedlingen. The focus of the talk will be the human aspect in organizations which is one of the 12 areas of the DP-model. DP comes from Distributed Power and the model is a guide for self-organizing\, Teal\, Sociocracy and in general for the democratization of the workplace. More about the DP-model here \nListen to the programme / lyssna på programmet (SWE) >> \n  \nSWE:Den 8 juli kommer Mohammed Bashir Abdi att vara gäst på webradioprogrammet “Tiden är nu!” av Rolf och Alicia Medina.Mohammed har en lång karriär inom den svenska arbetsmarknaden på Arbetsförmedlingen. Därför kommer han prata om människorna i organisationer med ett djupare perspektiv. \n 
URL:https://www.foosweden.se/event/tiden-ar-nu-5-people-in-organizations/
LOCATION:On web radio AV EGEN KRAFT
CATEGORIES:Swedish,Web radio programme
ATTACH;FMTTYPE=image/png:https://www.foosweden.se/wp-content/uploads/2021/06/how_to_managa_competence-1.png
END:VEVENT
BEGIN:VEVENT
DTSTART;TZID=Europe/Stockholm:20210609T093000
DTEND;TZID=Europe/Stockholm:20210609T110000
DTSTAMP:20260420T115322
CREATED:20210525T092253Z
LAST-MODIFIED:20220420T131953Z
UID:10000055-1623231000-1623236400@www.foosweden.se
SUMMARY:”Tiden är NU!” #4  Sociocracy and Permaculture
DESCRIPTION:Alicia and Rolf are the radio hosts of the programme “Tiden är NU!” that means The time is NOW. In this program\, they interview (In Swedish) Andreas Jonsson\, headmaster of Holma Folkhögskola about sociocracy and permaculture. Going deeper into how to organize in circles\, consent decision making and ways of working with flexible roles without managers and cleaners. The DP model promotes self-organising and distribution of power along the organisation instead of it being centralised and only connected to certain roles. More about the DP-model here \n<<Listen to the programme>> <<Lyssna på programmet>>
URL:https://www.foosweden.se/event/web-radio-programme-tiden-ar-nu-4-sociocracy-and-permaculture/
LOCATION:On web radio AV EGEN KRAFT
CATEGORIES:Swedish,Web radio programme
ATTACH;FMTTYPE=image/png:https://www.foosweden.se/wp-content/uploads/2021/05/andreas_jonsson_event.png
END:VEVENT
BEGIN:VEVENT
DTSTART;TZID=Europe/Stockholm:20210506T093000
DTEND;TZID=Europe/Stockholm:20210506T110000
DTSTAMP:20260420T115322
CREATED:20210525T145845Z
LAST-MODIFIED:20220420T134210Z
UID:10000053-1620293400-1620298800@www.foosweden.se
SUMMARY:”Tiden är NU!” #3 Simulation in Change Management
DESCRIPTION:Den 6/5 gästade Adriana Azinovic från företaget Tenco i Malmö\, programmet Tiden är NU! på webbradiokanalen Av egen Kraft. \nHon delade med sig av sina erfarenheter av att driva förändringsarbete med hjälp av design thinking och simuleringar. \nMore about the DP-model here \nHennes övertygelse är att det bästa sättet att flytta en organisation in i framtiden är genom att testa och lära istället för att fokusera på teorier och genomföra analyser. \n<< Lyssna på intervjun >>
URL:https://www.foosweden.se/event/web-radio-programme-tiden-ar-nu-simulation-in-change-management/
LOCATION:On web radio AV EGEN KRAFT
CATEGORIES:Swedish,Web radio programme
ATTACH;FMTTYPE=image/png:https://www.foosweden.se/wp-content/uploads/2021/05/5.png
END:VEVENT
BEGIN:VEVENT
DTSTART;TZID=Europe/Stockholm:20210408T093000
DTEND;TZID=Europe/Stockholm:20210408T110000
DTSTAMP:20260420T115322
CREATED:20210517T091052Z
LAST-MODIFIED:20220420T145101Z
UID:10000061-1617874200-1617879600@www.foosweden.se
SUMMARY:”Tiden är NU!” #2  From student to first  employment
DESCRIPTION:Alicia and Rolf are the radio hosts of the programme \n“Tiden är nu” that means The time is NOW”. \nIn this program they interview (in Swedish) Alice Westman a young Master student from Lund university that is about to enter the work life. The topics of the conversation are learning\, student life under covid19\, recruitment processes in Sweden\, work environment as well as the aspirations and expectation from the new generation. \nThe focus of the talk will be competence and learning. This area deals with competence and with a new approach to roles\, beyond work descriptions. This includes recruitment and learning.Individuals can contribute with different talents and resources. Each person must be able to grow individually in their abilities\, there by furthering the group as a whole. Learning must also be built in as a natural part of work. More about the DP-model here \n  \n<< Listen to the program >> << Lyssna på programmet >> \nThe program is in Swedish.
URL:https://www.foosweden.se/event/web-radio-programme-tiden-ar-nu-topic-taking-the-next-step-from-student-to-first-employment/
LOCATION:On web radio AV EGEN KRAFT
CATEGORIES:Swedish,Web radio programme
ATTACH;FMTTYPE=image/png:https://www.foosweden.se/wp-content/uploads/2021/05/4.png
END:VEVENT
BEGIN:VEVENT
DTSTART;TZID=Europe/Stockholm:20210311T093000
DTEND;TZID=Europe/Stockholm:20210311T110000
DTSTAMP:20260420T115322
CREATED:20210517T093400Z
LAST-MODIFIED:20220420T155501Z
UID:10000059-1615455000-1615460400@www.foosweden.se
SUMMARY:”Tiden är NU!” #1  Flexible Workplace ‏‏‎ ‏‏‎ ‏‏‎ ‏‏‎ ‏‏‎ ‏‏‎ ‏‏‎ ‏‏‎ ‏‏‎ ‏‏‎ ‏‏‎ ‏‏‎ ‏‏‎ ‏‏‎ ‏‏‎ ‏‏‎ ‏‏‎ ‏‏‎ ‏‏‎ ‏‏‎ ‏‏‎ ‏‏‎ ‏‏‎ ‏‏‎ ‏‏‎ ‏‏‎ ‏‏‎ ‏‏‎ ‏‏‎ ‏‏‎ ‏‏‎ ‏‏‎ ‏‏‎ ‏‏‎ ‏‏‎ ‏‏‎ ‏‏‎ ‏‏‎ ‏‏‎ ‏‏‎ ‏‏‎ ‏‏‎ ‏‏‎ ‏‏‎ ‏‏‎ ‏‏‎ ‏‏‎ ‏‏‎
DESCRIPTION:Alicia and Rolf  are the radio hosts” of the programme \n“Tiden är nu” that means The time is NOW”. \nIn this program they interview (In Swedish) Malin Pansell and Ylva Pålsson about Work place and working environment. Going deeper into activity based working (ABW) and flexible work places. The focus of the talk will be flexible workplace which is one of the 12 areas of the DP-model. DP comes from Distributed Power and the model is a guide for self-organizing\, Teal\, Sociocracy and in general for the democratization of the workplace. More about the DP-model here \n<< Listen to the program >> << Lyssna på programmet >> \nThe program is in Swedish. \n 
URL:https://www.foosweden.se/event/web-radio-programme-tiden-ar-nu-topic-flexible-work-place/
LOCATION:On web radio AV EGEN KRAFT
CATEGORIES:Swedish,Web radio programme
ATTACH;FMTTYPE=image/png:https://www.foosweden.se/wp-content/uploads/2021/05/3.png
END:VEVENT
END:VCALENDAR