BEGIN:VCALENDAR
VERSION:2.0
PRODID:-//Foosweden - ECPv6.15.14//NONSGML v1.0//EN
CALSCALE:GREGORIAN
METHOD:PUBLISH
X-ORIGINAL-URL:https://www.foosweden.se
X-WR-CALDESC:Events for Foosweden
REFRESH-INTERVAL;VALUE=DURATION:PT1H
X-Robots-Tag:noindex
X-PUBLISHED-TTL:PT1H
BEGIN:VTIMEZONE
TZID:Europe/Stockholm
BEGIN:DAYLIGHT
TZOFFSETFROM:+0100
TZOFFSETTO:+0200
TZNAME:CEST
DTSTART:20190331T010000
END:DAYLIGHT
BEGIN:STANDARD
TZOFFSETFROM:+0200
TZOFFSETTO:+0100
TZNAME:CET
DTSTART:20191027T010000
END:STANDARD
BEGIN:DAYLIGHT
TZOFFSETFROM:+0100
TZOFFSETTO:+0200
TZNAME:CEST
DTSTART:20200329T010000
END:DAYLIGHT
BEGIN:STANDARD
TZOFFSETFROM:+0200
TZOFFSETTO:+0100
TZNAME:CET
DTSTART:20201025T010000
END:STANDARD
BEGIN:DAYLIGHT
TZOFFSETFROM:+0100
TZOFFSETTO:+0200
TZNAME:CEST
DTSTART:20210328T010000
END:DAYLIGHT
BEGIN:STANDARD
TZOFFSETFROM:+0200
TZOFFSETTO:+0100
TZNAME:CET
DTSTART:20211031T010000
END:STANDARD
BEGIN:DAYLIGHT
TZOFFSETFROM:+0100
TZOFFSETTO:+0200
TZNAME:CEST
DTSTART:20220327T010000
END:DAYLIGHT
BEGIN:STANDARD
TZOFFSETFROM:+0200
TZOFFSETTO:+0100
TZNAME:CET
DTSTART:20221030T010000
END:STANDARD
END:VTIMEZONE
BEGIN:VEVENT
DTSTART;TZID=Europe/Stockholm:20210527T130000
DTEND;TZID=Europe/Stockholm:20210527T140000
DTSTAMP:20260420T192603
CREATED:20210527T102131Z
LAST-MODIFIED:20210616T081602Z
UID:10000068-1622120400-1622124000@www.foosweden.se
SUMMARY:Alicia Medina is guest at Jobbpodden ‏‏‎ ‏‏‎ ‏‏‎ ‏‏‎ ‏‏‎ ‏‏‎ ‏‏‎ ‏‏‎ ‏‏‎ ‏‏‎ ‏‏‎ ‏‏‎ ‏‏‎ ‏‏‎ ‏‏‎ ‏‏‎ ‏‏‎ ‏‏‎ ‏‏‎ ‏‏‎ ‏‏‎ ‏‏‎ ‏‏‎ ‏‏‎ ‏‏‎ ‏‏‎ ‏‏‎ ‏‏‎ ‏‏‎ ‏‏‎ ‏‏‎ ‏‏‎ ‏‏‎ ‏‏‎ ‏‏‎ ‏‏‎ ‏‏‎ ‏‏‎ ‏‏‎ ‏‏‎ ‏‏‎ ‏‏‎ ‏‏‎ ‏‏‎ ‏‏‎ ‏‏‎ ‏‏‎ ‏‏‎ ‏‏‎‏‏‏‏‎‏‏‎
DESCRIPTION:On May 27\, Alicia Medina PhD will be guest at Jobbpodden!\nAlicia began her working life after completing a master’s degree in Math and a Computer Engineering. After many years in working life\, first in roles in IT and then in various managerial positions\, she received her Doctorate in Strategy and Management in 2012.\nShe has since split her time between business and academia: \n🔹 in Future of Organizing AB as a business developer and advisor on organizational issues and development of new products and concepts that support agile working methods and self-organization. \n🔹 at Umeå University’s Department of Business Administration where she teaches in “The Company’s Organization and Management”\, supervises Master students in Management and Organization and researches self-organization and competence. \n 
URL:https://www.foosweden.se/event/alicia-medina-is-guest-at-jobbpodden-live-on-linkedin/
LOCATION:Online
CATEGORIES:Podcast,Swedish
ATTACH;FMTTYPE=image/png:https://www.foosweden.se/wp-content/uploads/2021/05/Immagine-2021-05-27-121539-1.png
END:VEVENT
BEGIN:VEVENT
DTSTART;VALUE=DATE:20210523
DTEND;VALUE=DATE:20210524
DTSTAMP:20260420T192603
CREATED:20210525T181534Z
LAST-MODIFIED:20210616T082056Z
UID:10000067-1621728000-1621814399@www.foosweden.se
SUMMARY:Robin Söderström interviewed Rolf about online work
DESCRIPTION:✔️ Kommer ordet distansarbete försvinna⁉️\n✔️ Är det verkligen rimligt att sitta med en dator för 2000 dollar på en “kontorsstol” för 20 dollar?\n✔️ Hur kommer vi resa framöver?\n✔️ Dagis på distans?\n✔️ Hur ser vi på distansarbete år 2050? \nOm DET och mycket mer pratar Robin Söderström och Rolf Medina\, PhD i detta avsnitt. \nKlicka på länken på att lyssna på \n \n 
URL:https://www.foosweden.se/event/avsnitt-9-rolf-medina-om-framtid-nutid-inom-distansarbete/
LOCATION:Online
CATEGORIES:Podcast,Swedish
ATTACH;FMTTYPE=image/jpeg:https://www.foosweden.se/wp-content/uploads/2021/05/DSC2760-scaled-e1621333226592.jpg
END:VEVENT
BEGIN:VEVENT
DTSTART;TZID=Europe/Stockholm:20210506T093000
DTEND;TZID=Europe/Stockholm:20210506T110000
DTSTAMP:20260420T192603
CREATED:20210525T145845Z
LAST-MODIFIED:20220420T134210Z
UID:10000053-1620293400-1620298800@www.foosweden.se
SUMMARY:”Tiden är NU!” #3 Simulation in Change Management
DESCRIPTION:Den 6/5 gästade Adriana Azinovic från företaget Tenco i Malmö\, programmet Tiden är NU! på webbradiokanalen Av egen Kraft. \nHon delade med sig av sina erfarenheter av att driva förändringsarbete med hjälp av design thinking och simuleringar. \nMore about the DP-model here \nHennes övertygelse är att det bästa sättet att flytta en organisation in i framtiden är genom att testa och lära istället för att fokusera på teorier och genomföra analyser. \n<< Lyssna på intervjun >>
URL:https://www.foosweden.se/event/web-radio-programme-tiden-ar-nu-simulation-in-change-management/
LOCATION:On web radio AV EGEN KRAFT
CATEGORIES:Swedish,Web radio programme
ATTACH;FMTTYPE=image/png:https://www.foosweden.se/wp-content/uploads/2021/05/5.png
END:VEVENT
BEGIN:VEVENT
DTSTART;TZID=Europe/Stockholm:20210421T110000
DTEND;TZID=Europe/Stockholm:20210421T130000
DTSTAMP:20260420T192603
CREATED:20210525T091354Z
LAST-MODIFIED:20210610T195731Z
UID:10000057-1619002800-1619010000@www.foosweden.se
SUMMARY:Expertmöten #14: Dina skills gör din kompetens unik
DESCRIPTION:Vi pratar om motivation och kunskap. Vilka förmågor behöver du känna till och utveckla för att skina som expert och bli attraktiv för arbetsgivare? \nDagens experter Alicia och Rolf Medina\, har utvecklat en forskningsbaserad tjänst HEP Online som frigör kompetens och skapar engagerade medarbetare. \nLäs mer om den digitala tjänsten på https://www.hep-online.com/ \nHur och varför gör dina skills din kompetens unik? Och värdefull? \nVisste du att det är viktigt att ha koll på sina SKILLS\, inte bara för att komma i flow och ha roligt på jobbet? Det är också viktigt för att förhindra att man går i väggen och mår dåligt. \nLyssna på samtalet här >>
URL:https://www.foosweden.se/event/expertmoten-14-dina-skills-gor-din-kompetens-unik-asa-rydhard-moter-alicia-och-rolf-medina-fran-future-of-organizing-och-hep-online/
LOCATION:Online
CATEGORIES:Interview,Swedish
ATTACH;FMTTYPE=image/png:https://www.foosweden.se/wp-content/uploads/2021/05/8.png
END:VEVENT
BEGIN:VEVENT
DTSTART;TZID=Europe/Stockholm:20210408T093000
DTEND;TZID=Europe/Stockholm:20210408T110000
DTSTAMP:20260420T192603
CREATED:20210517T091052Z
LAST-MODIFIED:20220420T145101Z
UID:10000061-1617874200-1617879600@www.foosweden.se
SUMMARY:”Tiden är NU!” #2  From student to first  employment
DESCRIPTION:Alicia and Rolf are the radio hosts of the programme \n“Tiden är nu” that means The time is NOW”. \nIn this program they interview (in Swedish) Alice Westman a young Master student from Lund university that is about to enter the work life. The topics of the conversation are learning\, student life under covid19\, recruitment processes in Sweden\, work environment as well as the aspirations and expectation from the new generation. \nThe focus of the talk will be competence and learning. This area deals with competence and with a new approach to roles\, beyond work descriptions. This includes recruitment and learning.Individuals can contribute with different talents and resources. Each person must be able to grow individually in their abilities\, there by furthering the group as a whole. Learning must also be built in as a natural part of work. More about the DP-model here \n  \n<< Listen to the program >> << Lyssna på programmet >> \nThe program is in Swedish.
URL:https://www.foosweden.se/event/web-radio-programme-tiden-ar-nu-topic-taking-the-next-step-from-student-to-first-employment/
LOCATION:On web radio AV EGEN KRAFT
CATEGORIES:Swedish,Web radio programme
ATTACH;FMTTYPE=image/png:https://www.foosweden.se/wp-content/uploads/2021/05/4.png
END:VEVENT
BEGIN:VEVENT
DTSTART;TZID=Europe/Stockholm:20210311T093000
DTEND;TZID=Europe/Stockholm:20210311T110000
DTSTAMP:20260420T192603
CREATED:20210517T093400Z
LAST-MODIFIED:20220420T155501Z
UID:10000059-1615455000-1615460400@www.foosweden.se
SUMMARY:”Tiden är NU!” #1  Flexible Workplace ‏‏‎ ‏‏‎ ‏‏‎ ‏‏‎ ‏‏‎ ‏‏‎ ‏‏‎ ‏‏‎ ‏‏‎ ‏‏‎ ‏‏‎ ‏‏‎ ‏‏‎ ‏‏‎ ‏‏‎ ‏‏‎ ‏‏‎ ‏‏‎ ‏‏‎ ‏‏‎ ‏‏‎ ‏‏‎ ‏‏‎ ‏‏‎ ‏‏‎ ‏‏‎ ‏‏‎ ‏‏‎ ‏‏‎ ‏‏‎ ‏‏‎ ‏‏‎ ‏‏‎ ‏‏‎ ‏‏‎ ‏‏‎ ‏‏‎ ‏‏‎ ‏‏‎ ‏‏‎ ‏‏‎ ‏‏‎ ‏‏‎ ‏‏‎ ‏‏‎ ‏‏‎ ‏‏‎ ‏‏‎
DESCRIPTION:Alicia and Rolf  are the radio hosts” of the programme \n“Tiden är nu” that means The time is NOW”. \nIn this program they interview (In Swedish) Malin Pansell and Ylva Pålsson about Work place and working environment. Going deeper into activity based working (ABW) and flexible work places. The focus of the talk will be flexible workplace which is one of the 12 areas of the DP-model. DP comes from Distributed Power and the model is a guide for self-organizing\, Teal\, Sociocracy and in general for the democratization of the workplace. More about the DP-model here \n<< Listen to the program >> << Lyssna på programmet >> \nThe program is in Swedish. \n 
URL:https://www.foosweden.se/event/web-radio-programme-tiden-ar-nu-topic-flexible-work-place/
LOCATION:On web radio AV EGEN KRAFT
CATEGORIES:Swedish,Web radio programme
ATTACH;FMTTYPE=image/png:https://www.foosweden.se/wp-content/uploads/2021/05/3.png
END:VEVENT
BEGIN:VEVENT
DTSTART;TZID=Europe/Stockholm:20201208T180000
DTEND;TZID=Europe/Stockholm:20201208T193000
DTSTAMP:20260420T192603
CREATED:20210525T180710Z
LAST-MODIFIED:20210603T082941Z
UID:10000066-1607450400-1607455800@www.foosweden.se
SUMMARY:Systemic organizations\, decision making & salary setting
DESCRIPTION:A seminar and Workshop organized by Teal for Teal Sweden where Alicia and Rolf are presenting two of the areas of the DP-model. \nThe model is a result of a three years research study and is to be consider a practical guide for self-organizing and democratizing the work place. \nMore information: https://www.tealforteal.se/uncategorized/natverkstraff-med-alicia-och-rolf-medina/
URL:https://www.foosweden.se/event/systemiska-organisationers-arbete-med-beslutsfattande-lonesattning-och-vinstdelning/
LOCATION:Online
CATEGORIES:Swedish,Workshop
ATTACH;FMTTYPE=image/jpeg:https://www.foosweden.se/wp-content/uploads/2020/12/New-Teal-for-teal--scaled.jpg
END:VEVENT
BEGIN:VEVENT
DTSTART;TZID=Europe/Stockholm:20201027T130000
DTEND;TZID=Europe/Stockholm:20201027T150000
DTSTAMP:20260420T192603
CREATED:20210525T154244Z
LAST-MODIFIED:20210610T202118Z
UID:10000063-1603803600-1603810800@www.foosweden.se
SUMMARY:Progressive ways and self-organizing: How to start?
DESCRIPTION:Future of Organizing AB (FoO) + Quini AB bjuder in till ett spännande Seminarium och Workshop \nVem:\nAlicia Medina\, PhD\, Organisationskonsult Future of Organizing AB\, Lektor och forskare i Organisation och ledarskap Umeå Universitet.\nRolf Medina\, PhD\, Business och Organisationskonsult Quini AB\, Lektor och forskare inom Organisation och Ledarskap\, Umeå Universitet samt Strategic Management\, UCL\, London \nCovid-19\nSuperrum är ett rum med kapacitet för 30–40 personer men för att säkerställa social distansering kommer seminariet bara ta emot 15 deltagare.\nFör de som inte kan delta fysiskt så kommer det att finnas möjlighet till 15 online-deltagare\nvia Zoom. \nVad:\nSom deltagare kommer du att få nya eller fräschare insikter om vad självorganisering\, Teal\, Agile\, nätverksorganisation och sociokratiska organiseringsformer är\, och vad de inte är. \nEn del myter kommer att krossas och du att få konkreta tips på hur en transformation eller kulturresa kan börja. Om du kommer från en organisation som redan påbörjat resan\, kommer du att både få möjlighet att dela med dig av din erfarenhet och få input om möjliga framåtskridande steg. \nAlicia och Rolf kommer att presentera konkreta exempel från sitt arbete som organisationskonsulter samt en del resultat från sina forskningsprojekt (som startade 2018) kring progressiva organiseringsformer i Sverige samt goda globala referenser. Inom ramen för sin forskning har de besökt och analyserat ett hundratal företag\, intervjuat ca 300 personer samt haft privilegiet att samtala med flera av världens ledande personer inom ämnet. \nDP (Distributed Power)\, som är en svensk modell för progressiv organisering som kan ses som\nRiv pyramiderna 2.0\, kommer att presenteras. \nHur: Anmäl dig genom att skicka mail till events@quini.se och skriv några rader om varför du önskar delta samt om du önskar delta fysiskt eller online.
URL:https://www.foosweden.se/event/progressiva-former-av-organisering-och-sjalvorganisering-hur-borjar-man-pa-riktigt/
LOCATION:Media Evolution\, Malmö\, Sweden
CATEGORIES:Seminar,Swedish,Workshop
ATTACH;FMTTYPE=image/jpeg:https://www.foosweden.se/wp-content/uploads/2021/05/chris-montgomery-smgTvepind4-unsplash.jpg
END:VEVENT
BEGIN:VEVENT
DTSTART;TZID=Europe/Stockholm:20200915T170000
DTEND;TZID=Europe/Stockholm:20200915T190000
DTSTAMP:20260420T192603
CREATED:20210525T180228Z
LAST-MODIFIED:20210603T083141Z
UID:10000065-1600189200-1600196400@www.foosweden.se
SUMMARY:What does research says about teal? ‏‏‎ ‏‏‎ ‏‏‎ ‏‏‎ ‏‏‎ ‏‏‎ ‏‏‎ ‏‏‎ ‏‏‎ ‏‏‎ ‏‏‎ ‏‏‎ ‏‏‎ ‏‏‎ ‏‏‎ ‏‏‎ ‏‏‎ ‏‏‎ ‏‏‎ ‏‏‎ ‏‏‎ ‏‏‎ ‏‏‎ ‏‏‎ ‏‏‎ ‏‏‎ ‏‏‎ ‏‏‎ ‏‏‎ ‏‏‎ ‏‏‎ ‏‏‎ ‏‏‎ ‏‏‎ ‏‏‎ ‏‏‎ ‏‏‎ ‏‏‎ ‏‏‎ ‏‏‎ ‏‏‎ ‏‏‎ ‏‏‎ ‏‏‎ ‏‏‎ ‏‏‎ ‏‏‎ ‏‏‎
DESCRIPTION:Alicia is being interviewed by Fredrik and Maria from Tealpodden. She talks about Teal\, progressive ways of organizing and gives her view mixing the researcher and the practitioners perspective. \nShe also share cases from Swedish organizations that are on a journey through a new paradigm. \nListen the interview here
URL:https://www.foosweden.se/event/interview-in-swedish-at-teal-podden-vad-sager-forskningen-om-teal/
LOCATION:Online
CATEGORIES:Podcast,Swedish
ATTACH;FMTTYPE=image/jpeg:https://www.foosweden.se/wp-content/uploads/2021/04/teal.jpg
END:VEVENT
END:VCALENDAR