BEGIN:VCALENDAR
VERSION:2.0
PRODID:-//Foosweden - ECPv6.15.14//NONSGML v1.0//EN
CALSCALE:GREGORIAN
METHOD:PUBLISH
X-ORIGINAL-URL:https://www.foosweden.se
X-WR-CALDESC:Events for Foosweden
REFRESH-INTERVAL;VALUE=DURATION:PT1H
X-Robots-Tag:noindex
X-PUBLISHED-TTL:PT1H
BEGIN:VTIMEZONE
TZID:Europe/Stockholm
BEGIN:DAYLIGHT
TZOFFSETFROM:+0100
TZOFFSETTO:+0200
TZNAME:CEST
DTSTART:20220327T010000
END:DAYLIGHT
BEGIN:STANDARD
TZOFFSETFROM:+0200
TZOFFSETTO:+0100
TZNAME:CET
DTSTART:20221030T010000
END:STANDARD
BEGIN:DAYLIGHT
TZOFFSETFROM:+0100
TZOFFSETTO:+0200
TZNAME:CEST
DTSTART:20230326T010000
END:DAYLIGHT
BEGIN:STANDARD
TZOFFSETFROM:+0200
TZOFFSETTO:+0100
TZNAME:CET
DTSTART:20231029T010000
END:STANDARD
BEGIN:DAYLIGHT
TZOFFSETFROM:+0100
TZOFFSETTO:+0200
TZNAME:CEST
DTSTART:20240331T010000
END:DAYLIGHT
BEGIN:STANDARD
TZOFFSETFROM:+0200
TZOFFSETTO:+0100
TZNAME:CET
DTSTART:20241027T010000
END:STANDARD
END:VTIMEZONE
BEGIN:VEVENT
DTSTART;TZID=Europe/Stockholm:20231004T140000
DTEND;TZID=Europe/Stockholm:20231006T140000
DTSTAMP:20260420T060647
CREATED:20230510T132208Z
LAST-MODIFIED:20230523T124131Z
UID:10000100-1696428000-1696600800@www.foosweden.se
SUMMARY:1er Congreso Internacional TEAL de habla hispana
DESCRIPTION:This event will be held in Spanish. \nThis is the first edition of the TEAL International Congress. During this event\,  Alicia Medina PhD will share different cases of the new organization paradigm\, experiences\, and research. Additionally\, she will present the English version of the book “Teal. Trust. Transparency” written by her and Rolf Medina. This book was originally published in Swedish and now is available in printed and Kindle formats on Amazon. Read more information here. \nTickets for this congress are limited to ensure interaction and engaging discussions. Tickets will be available starting June 1st online. Click here to go to the ticket page. \nTo check the program click here. \nSueña\, construye y transforma: hacia un nuevo horizonte TEAL \n 
URL:https://www.foosweden.se/event/1er-congreso-internacional-teal-de-habla-hispana/
LOCATION:Cuenca\, Cuenca\, Spain
CATEGORIES:Event,Seminar,Spanish
ATTACH;FMTTYPE=image/png:https://www.foosweden.se/wp-content/uploads/2023/05/tiden-at-nu-12-4.png
ORGANIZER;CN="Congreso Internacional TEAL":MAILTO:hola@congresointernacionalteal.com
END:VEVENT
END:VCALENDAR