BEGIN:VCALENDAR
VERSION:2.0
PRODID:-//Foosweden - ECPv6.15.14//NONSGML v1.0//EN
CALSCALE:GREGORIAN
METHOD:PUBLISH
X-WR-CALNAME:Foosweden
X-ORIGINAL-URL:https://www.foosweden.se
X-WR-CALDESC:Events for Foosweden
REFRESH-INTERVAL;VALUE=DURATION:PT1H
X-Robots-Tag:noindex
X-PUBLISHED-TTL:PT1H
BEGIN:VTIMEZONE
TZID:Europe/Stockholm
BEGIN:DAYLIGHT
TZOFFSETFROM:+0100
TZOFFSETTO:+0200
TZNAME:CEST
DTSTART:20220327T010000
END:DAYLIGHT
BEGIN:STANDARD
TZOFFSETFROM:+0200
TZOFFSETTO:+0100
TZNAME:CET
DTSTART:20221030T010000
END:STANDARD
BEGIN:DAYLIGHT
TZOFFSETFROM:+0100
TZOFFSETTO:+0200
TZNAME:CEST
DTSTART:20230326T010000
END:DAYLIGHT
BEGIN:STANDARD
TZOFFSETFROM:+0200
TZOFFSETTO:+0100
TZNAME:CET
DTSTART:20231029T010000
END:STANDARD
BEGIN:DAYLIGHT
TZOFFSETFROM:+0100
TZOFFSETTO:+0200
TZNAME:CEST
DTSTART:20240331T010000
END:DAYLIGHT
BEGIN:STANDARD
TZOFFSETFROM:+0200
TZOFFSETTO:+0100
TZNAME:CET
DTSTART:20241027T010000
END:STANDARD
END:VTIMEZONE
BEGIN:VEVENT
DTSTART;TZID=Europe/Stockholm:20230926T080000
DTEND;TZID=Europe/Stockholm:20230926T090000
DTSTAMP:20260419T163552
CREATED:20230707T113142Z
LAST-MODIFIED:20230707T115822Z
UID:279424-1695715200-1695718800@www.foosweden.se
SUMMARY:Frukostseminarium ”Förnyat ledarskap i en föränderlig värld”
DESCRIPTION:Future of Organizing och MY Workspaces inbjuder till ett frukostseminarium där du kommer att bli inspirerad\, få ökad förståelse för hur du som VD\, chef eller ledare kan agera i dagens och framtidens organisationer samt få insikter och tips om hur du kan starta din förflyttning. \nAnmäl dig på Eventbrite genom att följa denna länk. \nLedarskapet i Sverige måste förnyas då det traditionella ledarskapet nu utmanas pga. snabba och stora förändringar. I dagens samhälle arbetar människor annorlunda än tidigare och ledarskapet bör ha fokus på att öka engagemanget för att på så sätt kunna öka effektivitet och lönsamhet. \nArbetslivet är annorlunda\, människor har andra preferenser\, är mer rörliga\, vill ha större frihet samtidigt som det finns stora skillnader i beteende mellan olika generationer. \nAtt vara chef och VD idag kräver ett nytt förhållningssätt. \nAlicia och Rolf Medina\, som under långt tid har befunnit sig i två världar\, forskningsvärlden och företagsvärlden\, kommer att dela med sig av hur man förflyttar sig från otillräckligt ledarskap till förnyat effektivt och resultatskapande ledarskap. Seminariet kommer att ge dig insikter och verktyg för att leda i en föränderlig värld. \nYlva Pålsson och Malin Pansell arbetar som arbetsplatsstrateger och förändringsledare och stöttar organisationer i förändringar gällande kontor och arbetssätt. Du kommer att få med dig kunskap om hur vi kan använda våra arbetsplatser som strategiska verktyg och vad som krävs för att få ett flexibelt arbetssätt att fungera. De senaste årens beteendeförändring i användandet av kontoret ställer nya krav på såväl ledarskap och självledarskap som kontorets utformning. \nAnmäl dig på Eventbrite genom att följa denna länk. \n 
URL:https://www.foosweden.se/event/frukostseminarium-fornyat-ledarskap-i-en-foranderlig-varld/
LOCATION:Future of Organizing @ Davidshall\, Davidshall\, Malmö\, 21142
CATEGORIES:Event,Seminar,Swedish
ATTACH;FMTTYPE=image/jpeg:https://www.foosweden.se/wp-content/uploads/2023/07/bild-frukostseminarium-1.jpg
END:VEVENT
END:VCALENDAR