BEGIN:VCALENDAR
VERSION:2.0
PRODID:-//Foosweden - ECPv6.15.14//NONSGML v1.0//EN
CALSCALE:GREGORIAN
METHOD:PUBLISH
X-WR-CALNAME:Foosweden
X-ORIGINAL-URL:https://www.foosweden.se
X-WR-CALDESC:Events for Foosweden
REFRESH-INTERVAL;VALUE=DURATION:PT1H
X-Robots-Tag:noindex
X-PUBLISHED-TTL:PT1H
BEGIN:VTIMEZONE
TZID:Europe/Stockholm
BEGIN:DAYLIGHT
TZOFFSETFROM:+0100
TZOFFSETTO:+0200
TZNAME:CEST
DTSTART:20200329T010000
END:DAYLIGHT
BEGIN:STANDARD
TZOFFSETFROM:+0200
TZOFFSETTO:+0100
TZNAME:CET
DTSTART:20201025T010000
END:STANDARD
BEGIN:DAYLIGHT
TZOFFSETFROM:+0100
TZOFFSETTO:+0200
TZNAME:CEST
DTSTART:20210328T010000
END:DAYLIGHT
BEGIN:STANDARD
TZOFFSETFROM:+0200
TZOFFSETTO:+0100
TZNAME:CET
DTSTART:20211031T010000
END:STANDARD
BEGIN:DAYLIGHT
TZOFFSETFROM:+0100
TZOFFSETTO:+0200
TZNAME:CEST
DTSTART:20220327T010000
END:DAYLIGHT
BEGIN:STANDARD
TZOFFSETFROM:+0200
TZOFFSETTO:+0100
TZNAME:CET
DTSTART:20221030T010000
END:STANDARD
END:VTIMEZONE
BEGIN:VEVENT
DTSTART;TZID=Europe/Stockholm:20211014T170000
DTEND;TZID=Europe/Stockholm:20211014T190000
DTSTAMP:20260419T163504
CREATED:20210617T123955Z
LAST-MODIFIED:20211015T095946Z
UID:278032-1634230800-1634238000@www.foosweden.se
SUMMARY:Book Release event #5 in Stockholm
DESCRIPTION:Alicia and Rolf Medina will present their newest book “Teal\, Tillit\, Transparens” in a series of events around Sweden\, starting in September 2021. \nOn October 14th\, event #5 will be hosted by Centigo at their new office (Jakobsbergsgatan 24\, Stockholm) for an open house event between h.17-19; Celebrations with bubbles and canapés. \nThe conversations will be about the main focus of the book: self-organizing and democratisation of the workplace.During this event\, Jos de Block\, who also wrote the preface of the book\, will participate on the discussions online. \nThere will be time for a Q&A and Signing of the copies as well. \nThe event will be held in English and Swedish.We follow the recommendations from FHM to prevent the spread of Covid-19\, and we take action to make the event as safe as possible. Hence the limited number of tickets available. \nMake sure to reserve a spot at the event by clicking to the RSVP button down below. \nMore about the book\, click here! \n\n\n\n\n\n\n\n\n\n<<<Listen to a message from Jos de Blok by clicking here >>>\n 
URL:https://www.foosweden.se/event/book-release-stockholm/
LOCATION:Centigo\, Jakobsbergsgatan 24\, Stockholm\, Sweden
CATEGORIES:Book release,English,Swedish
ATTACH;FMTTYPE=image/png:https://www.foosweden.se/wp-content/uploads/2021/06/14.png
END:VEVENT
END:VCALENDAR