BEGIN:VCALENDAR
VERSION:2.0
PRODID:-//Foosweden - ECPv6.15.14//NONSGML v1.0//EN
CALSCALE:GREGORIAN
METHOD:PUBLISH
X-WR-CALNAME:Foosweden
X-ORIGINAL-URL:https://www.foosweden.se
X-WR-CALDESC:Events for Foosweden
REFRESH-INTERVAL;VALUE=DURATION:PT1H
X-Robots-Tag:noindex
X-PUBLISHED-TTL:PT1H
BEGIN:VTIMEZONE
TZID:Europe/Stockholm
BEGIN:DAYLIGHT
TZOFFSETFROM:+0100
TZOFFSETTO:+0200
TZNAME:CEST
DTSTART:20230326T010000
END:DAYLIGHT
BEGIN:STANDARD
TZOFFSETFROM:+0200
TZOFFSETTO:+0100
TZNAME:CET
DTSTART:20231029T010000
END:STANDARD
BEGIN:DAYLIGHT
TZOFFSETFROM:+0100
TZOFFSETTO:+0200
TZNAME:CEST
DTSTART:20240331T010000
END:DAYLIGHT
BEGIN:STANDARD
TZOFFSETFROM:+0200
TZOFFSETTO:+0100
TZNAME:CET
DTSTART:20241027T010000
END:STANDARD
BEGIN:DAYLIGHT
TZOFFSETFROM:+0100
TZOFFSETTO:+0200
TZNAME:CEST
DTSTART:20250330T010000
END:DAYLIGHT
BEGIN:STANDARD
TZOFFSETFROM:+0200
TZOFFSETTO:+0100
TZNAME:CET
DTSTART:20251026T010000
END:STANDARD
END:VTIMEZONE
BEGIN:VEVENT
DTSTART;TZID=Europe/Stockholm:20241114T170000
DTEND;TZID=Europe/Stockholm:20241114T200000
DTSTAMP:20260419T182716
CREATED:20241110T164637Z
LAST-MODIFIED:20241110T164637Z
UID:279612-1731603600-1731614400@www.foosweden.se
SUMMARY:After Work with content - The Leadership Trap and the Winds of Flexibility
DESCRIPTION:Welcome to After Work with Content in Malmö! \nTheme for the evening:\n“The Leadership Trap and the Winds of Flexibility”\nDate: November 14th\nTime: 17:00-20:00 \nHow does it work?\nAt Vibliotek Tapas Bar\, we’ll have a dedicated room called “La Trastienda” for networking\, sharing experiences\, and enjoying the evening with old and new friends. \nTo encourage dialogue and storytelling\, there will be questions and slogans on the tables. A microphone will be available for those who wish to share their insights\, while comfortable seating will be provided for those who prefer to relax and enjoy the tapas without participating actively. \nHow to secure your place:\nReserve your spot by purchasing your welcome drink (cava or non-alcoholic) in advance.\nSwish 79 SEK and include your name. If you’re booking for multiple people\, please include their names and Swish the appropriate amount.\nSwish number: 123-285 39 27 (Future of Organizing)\nAre you an international visitor in Malmö and don’t have Swish? Send us a message\, and we’ll provide a solution. \nCome as you are and enjoy this exciting new After Work concept that has finally arrived in Malmö!
URL:https://www.foosweden.se/event/after-work-with-content-the-leadership-trap-and-the-winds-of-flexibility/
LOCATION:La Trastienda @ Vibliotek\, Södra Vallgatan 3\, Malmö\, 21140\, Sweden
CATEGORIES:After Work,English,Swedish
ATTACH;FMTTYPE=image/jpeg:https://www.foosweden.se/wp-content/uploads/2024/11/Welcome-to-an-After-Work-with-content-in-Malmo.-The-theme-for-the-evening-is-The-Leadership-trap-and-the-wind-of-Flexibility-On-the-14-of-November-between-17.00-20.00.jpg
END:VEVENT
END:VCALENDAR